BEGIN:VCALENDAR
VERSION:2.0
PRODID:spatie/icalendar-generator
NAME:Imam Hasan Centre
X-WR-CALNAME:Imam Hasan Centre
BEGIN:VTIMEZONE
TZID:Australia/Sydney
BEGIN:STANDARD
DTSTART:20240407T030000Z
TZOFFSETFROM:+1100
TZOFFSETTO:+1000
END:STANDARD
BEGIN:DAYLIGHT
DTSTART:20241006T020000Z
TZOFFSETFROM:+1000
TZOFFSETTO:+1100
END:DAYLIGHT
END:VTIMEZONE
BEGIN:VTIMEZONE
TZID:UTC
BEGIN:STANDARD
DTSTART:20250726T222120Z
TZOFFSETFROM:+0000
TZOFFSETTO:+0000
END:STANDARD
END:VTIMEZONE
BEGIN:VEVENT
UID:69e949e094f76
DTSTAMP:20260422T222120Z
SUMMARY:10-08-2024 : Commemorating Syeda Sakina A.S.
DTSTART;TZID=Australia/Sydney:20240810T193000
DTEND;TZID=Australia/Sydney:20240810T203000
END:VEVENT
END:VCALENDAR