BEGIN:VCALENDAR
VERSION:2.0
PRODID:spatie/icalendar-generator
NAME:Imam Hasan Centre
X-WR-CALNAME:Imam Hasan Centre
BEGIN:VTIMEZONE
TZID:Australia/Sydney
BEGIN:DAYLIGHT
DTSTART:20221002T020000Z
TZOFFSETFROM:+1000
TZOFFSETTO:+1100
END:DAYLIGHT
BEGIN:STANDARD
DTSTART:20230402T030000Z
TZOFFSETFROM:+1100
TZOFFSETTO:+1000
END:STANDARD
END:VTIMEZONE
BEGIN:VTIMEZONE
TZID:UTC
BEGIN:STANDARD
DTSTART:20250726T234025Z
TZOFFSETFROM:+0000
TZOFFSETTO:+0000
END:STANDARD
END:VTIMEZONE
BEGIN:VEVENT
UID:69e95c695f97a
DTSTAMP:20260422T234025Z
SUMMARY:11-2-2023 &#8211\; Commemorating the demise of Syeda Zaynab A.S. Gu
 est speaker &#8211\; Maulana Kumayl Mehdavi
DTSTART;TZID=Australia/Sydney:20230211T201400
DTEND;TZID=Australia/Sydney:20230211T211400
END:VEVENT
END:VCALENDAR