BEGIN:VCALENDAR
VERSION:2.0
PRODID:spatie/icalendar-generator
NAME:Imam Hasan Centre
X-WR-CALNAME:Imam Hasan Centre
BEGIN:VTIMEZONE
TZID:Australia/Sydney
BEGIN:STANDARD
DTSTART:20250406T030000Z
TZOFFSETFROM:+1100
TZOFFSETTO:+1000
END:STANDARD
BEGIN:DAYLIGHT
DTSTART:20251005T020000Z
TZOFFSETFROM:+1000
TZOFFSETTO:+1100
END:DAYLIGHT
BEGIN:STANDARD
DTSTART:20260405T030000Z
TZOFFSETFROM:+1100
TZOFFSETTO:+1000
END:STANDARD
END:VTIMEZONE
BEGIN:VTIMEZONE
TZID:UTC
BEGIN:STANDARD
DTSTART:20250726T222328Z
TZOFFSETFROM:+0000
TZOFFSETTO:+0000
END:STANDARD
END:VTIMEZONE
BEGIN:VEVENT
UID:69e94a6088eb1
DTSTAMP:20260422T222328Z
SUMMARY:13-12-2025 &#8211\; Birthday of Syeda Fatima Zahra AS &#8211\; IHS 
 School Presentation
DTSTART;TZID=Australia/Sydney:20251213T190000
DTEND;TZID=Australia/Sydney:20251213T200000
END:VEVENT
END:VCALENDAR