BEGIN:VCALENDAR
VERSION:2.0
PRODID:spatie/icalendar-generator
NAME:Imam Hasan Centre
X-WR-CALNAME:Imam Hasan Centre
BEGIN:VTIMEZONE
TZID:Australia/Sydney
BEGIN:DAYLIGHT
DTSTART:20221002T020000Z
TZOFFSETFROM:+1000
TZOFFSETTO:+1100
END:DAYLIGHT
BEGIN:STANDARD
DTSTART:20230402T030000Z
TZOFFSETFROM:+1100
TZOFFSETTO:+1000
END:STANDARD
END:VTIMEZONE
BEGIN:VTIMEZONE
TZID:UTC
BEGIN:STANDARD
DTSTART:20250727T050011Z
TZOFFSETFROM:+0000
TZOFFSETTO:+0000
END:STANDARD
END:VTIMEZONE
BEGIN:VEVENT
UID:69e9a75be80fe
DTSTAMP:20260423T050011Z
SUMMARY:20-1-2023 &#8211\; IHC &#8211\; Birthday Celebration of Imam Muhamm
 ad Baqir AS &#8211\; Maulana Kumayl Mehdavi &#8211\; Dastarkhan : Imam Has
 an AS
DTSTART;TZID=Australia/Sydney:20230121T190000
DTEND;TZID=Australia/Sydney:20230121T200000
END:VEVENT
END:VCALENDAR