BEGIN:VCALENDAR
VERSION:2.0
PRODID:spatie/icalendar-generator
NAME:Imam Hasan Centre
X-WR-CALNAME:Imam Hasan Centre
BEGIN:VTIMEZONE
TZID:Australia/Sydney
BEGIN:DAYLIGHT
DTSTART:20221002T020000Z
TZOFFSETFROM:+1000
TZOFFSETTO:+1100
END:DAYLIGHT
BEGIN:STANDARD
DTSTART:20230402T030000Z
TZOFFSETFROM:+1100
TZOFFSETTO:+1000
END:STANDARD
END:VTIMEZONE
BEGIN:VTIMEZONE
TZID:UTC
BEGIN:STANDARD
DTSTART:20250727T013055Z
TZOFFSETFROM:+0000
TZOFFSETTO:+0000
END:STANDARD
END:VTIMEZONE
BEGIN:VEVENT
UID:69e9764f3ea0c
DTSTAMP:20260423T013055Z
SUMMARY:4-2-2023 &#8211\; Birthday of Imam Ali AS &#8211\; Includes Ladies 
 Program with Guest speaker &#8211\; Sister Fatemah Meghji &#8211\;
DTSTART;TZID=Australia/Sydney:20230204T202000
DTEND;TZID=Australia/Sydney:20230204T212000
END:VEVENT
END:VCALENDAR