BEGIN:VCALENDAR
VERSION:2.0
PRODID:spatie/icalendar-generator
NAME:Imam Hasan Centre
X-WR-CALNAME:Imam Hasan Centre
BEGIN:VTIMEZONE
TZID:Australia/Sydney
BEGIN:STANDARD
DTSTART:20230402T030000Z
TZOFFSETFROM:+1100
TZOFFSETTO:+1000
END:STANDARD
BEGIN:DAYLIGHT
DTSTART:20231001T020000Z
TZOFFSETFROM:+1000
TZOFFSETTO:+1100
END:DAYLIGHT
END:VTIMEZONE
BEGIN:VTIMEZONE
TZID:UTC
BEGIN:STANDARD
DTSTART:20250726T234035Z
TZOFFSETFROM:+0000
TZOFFSETTO:+0000
END:STANDARD
END:VTIMEZONE
BEGIN:VEVENT
UID:69e95c736685f
DTSTAMP:20260422T234035Z
SUMMARY:8-07-2023 &#8211\; Eid-e-Ghadeer &#038\; 10th Imam&#8217\;s Birthda
 y &#8211\; Interactive lecture &#8211\; bring your phones and tablets
DTSTART;TZID=Australia/Sydney:20230708T193000
DTEND;TZID=Australia/Sydney:20230708T203000
END:VEVENT
END:VCALENDAR