BEGIN:VCALENDAR
VERSION:2.0
PRODID:spatie/icalendar-generator
NAME:Imam Hasan Centre
X-WR-CALNAME:Imam Hasan Centre
BEGIN:VTIMEZONE
TZID:Australia/Sydney
BEGIN:STANDARD
DTSTART:20220403T030000Z
TZOFFSETFROM:+1100
TZOFFSETTO:+1000
END:STANDARD
BEGIN:DAYLIGHT
DTSTART:20221002T020000Z
TZOFFSETFROM:+1000
TZOFFSETTO:+1100
END:DAYLIGHT
BEGIN:STANDARD
DTSTART:20230402T030000Z
TZOFFSETFROM:+1100
TZOFFSETTO:+1000
END:STANDARD
END:VTIMEZONE
BEGIN:VTIMEZONE
TZID:UTC
BEGIN:STANDARD
DTSTART:20250729T124338Z
TZOFFSETFROM:+0000
TZOFFSETTO:+0000
END:STANDARD
END:VTIMEZONE
BEGIN:VEVENT
UID:69ecb6faacac6
DTSTAMP:20260425T124338Z
SUMMARY:Birthday of Syeda Zaynab A.S. 2022 / 1444 &#8211\; Saturday 3rd Dec
 ember
DTSTART;TZID=Australia/Sydney:20221203T081300
DTEND;TZID=Australia/Sydney:20221203T091300
END:VEVENT
END:VCALENDAR