BEGIN:VCALENDAR
VERSION:2.0
PRODID:spatie/icalendar-generator
NAME:Imam Hasan Centre
X-WR-CALNAME:Imam Hasan Centre
BEGIN:VTIMEZONE
TZID:Australia/Sydney
BEGIN:DAYLIGHT
DTSTART:20231001T020000Z
TZOFFSETFROM:+1000
TZOFFSETTO:+1100
END:DAYLIGHT
BEGIN:STANDARD
DTSTART:20240407T030000Z
TZOFFSETFROM:+1100
TZOFFSETTO:+1000
END:STANDARD
END:VTIMEZONE
BEGIN:VTIMEZONE
TZID:UTC
BEGIN:STANDARD
DTSTART:20250728T091520Z
TZOFFSETFROM:+0000
TZOFFSETTO:+0000
END:STANDARD
END:VTIMEZONE
BEGIN:VEVENT
UID:69eb34a8ef605
DTSTAMP:20260424T091520Z
SUMMARY:Juma &#8211\; 29-03-2024
DTSTART;TZID=Australia/Sydney:20240329T130000
DTEND;TZID=Australia/Sydney:20240329T140000
END:VEVENT
END:VCALENDAR