BEGIN:VCALENDAR
VERSION:2.0
PRODID:spatie/icalendar-generator
NAME:Imam Hasan Centre
X-WR-CALNAME:Imam Hasan Centre
BEGIN:VTIMEZONE
TZID:Australia/Sydney
BEGIN:STANDARD
DTSTART:20240407T030000Z
TZOFFSETFROM:+1100
TZOFFSETTO:+1000
END:STANDARD
BEGIN:DAYLIGHT
DTSTART:20241006T020000Z
TZOFFSETFROM:+1000
TZOFFSETTO:+1100
END:DAYLIGHT
END:VTIMEZONE
BEGIN:VTIMEZONE
TZID:UTC
BEGIN:STANDARD
DTSTART:20250727T015556Z
TZOFFSETFROM:+0000
TZOFFSETTO:+0000
END:STANDARD
END:VTIMEZONE
BEGIN:VEVENT
UID:69e97c2c4af06
DTSTAMP:20260423T015556Z
SUMMARY:Muharrum 1446 &#8211\; 2024
DTSTART;TZID=Australia/Sydney:20240707T193000
DTEND;TZID=Australia/Sydney:20240707T203000
END:VEVENT
END:VCALENDAR