BEGIN:VCALENDAR
VERSION:2.0
PRODID:spatie/icalendar-generator
NAME:Imam Hasan Centre
X-WR-CALNAME:Imam Hasan Centre
BEGIN:VTIMEZONE
TZID:Australia/Sydney
BEGIN:DAYLIGHT
DTSTART:20231001T020000Z
TZOFFSETFROM:+1000
TZOFFSETTO:+1100
END:DAYLIGHT
BEGIN:STANDARD
DTSTART:20240407T030000Z
TZOFFSETFROM:+1100
TZOFFSETTO:+1000
END:STANDARD
BEGIN:DAYLIGHT
DTSTART:20241006T020000Z
TZOFFSETFROM:+1000
TZOFFSETTO:+1100
END:DAYLIGHT
END:VTIMEZONE
BEGIN:VTIMEZONE
TZID:UTC
BEGIN:STANDARD
DTSTART:20250727T174130Z
TZOFFSETFROM:+0000
TZOFFSETTO:+0000
END:STANDARD
END:VTIMEZONE
BEGIN:VEVENT
UID:69ea59ca17d13
DTSTAMP:20260423T174130Z
SUMMARY:Visit by 𝗖𝗮𝘁𝗵𝗼𝗹𝗶𝗰 𝗗𝗶𝗼𝗰𝗲𝘀
 𝗲 𝗼𝗳 𝗣𝗮𝗿𝗿𝗮𝗺𝗮𝘁𝘁𝗮 𝗜𝗻𝘁𝗲
 𝗿𝗳𝗮𝗶𝘁𝗵 𝗖𝗼𝗺𝗺𝗶𝘀𝘀𝗶𝗼𝗻
DTSTART;TZID=Australia/Sydney:20240503T140000
DTEND;TZID=Australia/Sydney:20240503T150000
END:VEVENT
END:VCALENDAR